BEGIN:VCALENDAR
VERSION:2.0
PRODID:-//IFARE - ECPv6.10.2//NONSGML v1.0//EN
CALSCALE:GREGORIAN
METHOD:PUBLISH
X-WR-CALNAME:IFARE
X-ORIGINAL-URL:https://www.ifare.asso.fr
X-WR-CALDESC:Évènements pour IFARE
REFRESH-INTERVAL;VALUE=DURATION:PT1H
X-Robots-Tag:noindex
X-PUBLISHED-TTL:PT1H
BEGIN:VTIMEZONE
TZID:Europe/Paris
BEGIN:DAYLIGHT
TZOFFSETFROM:+0100
TZOFFSETTO:+0200
TZNAME:CEST
DTSTART:20250330T010000
END:DAYLIGHT
BEGIN:STANDARD
TZOFFSETFROM:+0200
TZOFFSETTO:+0100
TZNAME:CET
DTSTART:20251026T010000
END:STANDARD
END:VTIMEZONE
BEGIN:VEVENT
DTSTART;TZID=Europe/Paris:20250922T090000
DTEND;TZID=Europe/Paris:20250922T110000
DTSTAMP:20260421T175913
CREATED:20250808T133403Z
LAST-MODIFIED:20250808T133403Z
UID:16243-1758531600-1758538800@www.ifare.asso.fr
SUMMARY:Information Collective en présentiel avec France Travail de l’agence d’Ambérieu en Bugey
DESCRIPTION:Pour vous inscrire : agencenucleaire.69188@francetravail.fr
URL:https://www.ifare.asso.fr/event/information-collective-en-presentiel-avec-france-travail-de-lagence-damberieu-en-bugey/
LOCATION:France Travail Ambérieu en Bugey
END:VEVENT
END:VCALENDAR