BEGIN:VCALENDAR
VERSION:2.0
PRODID:-//IFARE - ECPv6.10.2//NONSGML v1.0//EN
CALSCALE:GREGORIAN
METHOD:PUBLISH
X-WR-CALNAME:IFARE
X-ORIGINAL-URL:https://www.ifare.asso.fr
X-WR-CALDESC:Évènements pour IFARE
REFRESH-INTERVAL;VALUE=DURATION:PT1H
X-Robots-Tag:noindex
X-PUBLISHED-TTL:PT1H
BEGIN:VTIMEZONE
TZID:Europe/Paris
BEGIN:DAYLIGHT
TZOFFSETFROM:+0100
TZOFFSETTO:+0200
TZNAME:CEST
DTSTART:20250330T010000
END:DAYLIGHT
BEGIN:STANDARD
TZOFFSETFROM:+0200
TZOFFSETTO:+0100
TZNAME:CET
DTSTART:20251026T010000
END:STANDARD
END:VTIMEZONE
BEGIN:VEVENT
DTSTART;TZID=Europe/Paris:20250912T090000
DTEND;TZID=Europe/Paris:20250912T110000
DTSTAMP:20260421T212759
CREATED:20250808T133307Z
LAST-MODIFIED:20250808T133307Z
UID:16241-1757667600-1757674800@www.ifare.asso.fr
SUMMARY:Info Collective en distanciel avec France Travail de l’agence de Pierrelatte
DESCRIPTION:Horaires : 9h-11h \nPour vous inscrire : agencenucleaire.69188@francetravail.fr \n 
URL:https://www.ifare.asso.fr/event/info-collective-en-distanciel-avec-france-travail-de-lagence-de-pierrelatte/
LOCATION:WEBINAIRE
END:VEVENT
END:VCALENDAR