BEGIN:VCALENDAR
VERSION:2.0
PRODID:-//IFARE - ECPv6.10.2//NONSGML v1.0//EN
CALSCALE:GREGORIAN
METHOD:PUBLISH
X-WR-CALNAME:IFARE
X-ORIGINAL-URL:https://www.ifare.asso.fr
X-WR-CALDESC:Évènements pour IFARE
REFRESH-INTERVAL;VALUE=DURATION:PT1H
X-Robots-Tag:noindex
X-PUBLISHED-TTL:PT1H
BEGIN:VTIMEZONE
TZID:Europe/Paris
BEGIN:DAYLIGHT
TZOFFSETFROM:+0100
TZOFFSETTO:+0200
TZNAME:CEST
DTSTART:20250330T010000
END:DAYLIGHT
BEGIN:STANDARD
TZOFFSETFROM:+0200
TZOFFSETTO:+0100
TZNAME:CET
DTSTART:20251026T010000
END:STANDARD
END:VTIMEZONE
BEGIN:VEVENT
DTSTART;TZID=Europe/Paris:20250926T080000
DTEND;TZID=Europe/Paris:20250926T120000
DTSTAMP:20260421T150514
CREATED:20250326T141111Z
LAST-MODIFIED:20250326T141422Z
UID:16012-1758873600-1758888000@www.ifare.asso.fr
SUMMARY:Conseil d’Administration IFARE | 26 septembre 2025
DESCRIPTION:Conseil d’Administration IFARE | 26 septembre 2025\nLes membres du Conseil d’Administration d’IFARE se retrouvent ! \n💡 Au programme :\n✅ Faire le point sur les actions menées\n✅ Valider les prochaines initiatives\n✅ Renforcer notre engagement auprès des adhérents
URL:https://www.ifare.asso.fr/event/conseil-dadministration-ifare-26-septembre-2025/
CATEGORIES:Conseil d'administration
END:VEVENT
END:VCALENDAR