BEGIN:VCALENDAR
VERSION:2.0
PRODID:-//IFARE - ECPv6.10.2//NONSGML v1.0//EN
CALSCALE:GREGORIAN
METHOD:PUBLISH
X-WR-CALNAME:IFARE
X-ORIGINAL-URL:https://www.ifare.asso.fr
X-WR-CALDESC:Évènements pour IFARE
REFRESH-INTERVAL;VALUE=DURATION:PT1H
X-Robots-Tag:noindex
X-PUBLISHED-TTL:PT1H
BEGIN:VTIMEZONE
TZID:Europe/Paris
BEGIN:DAYLIGHT
TZOFFSETFROM:+0100
TZOFFSETTO:+0200
TZNAME:CEST
DTSTART:20250330T010000
END:DAYLIGHT
BEGIN:STANDARD
TZOFFSETFROM:+0200
TZOFFSETTO:+0100
TZNAME:CET
DTSTART:20251026T010000
END:STANDARD
END:VTIMEZONE
BEGIN:VEVENT
DTSTART;TZID=Europe/Paris:20251219T090000
DTEND;TZID=Europe/Paris:20251219T110000
DTSTAMP:20260421T133442
CREATED:20250326T122616Z
LAST-MODIFIED:20250326T124911Z
UID:15973-1766134800-1766142000@www.ifare.asso.fr
SUMMARY:CNPE TRICASTIN : Information Collective | 19 décembre 2025
DESCRIPTION:📢 Information Collective – CNPE Tricastin | 19 décembre 2025 \n🔎 Vous souhaitez en savoir plus sur les métiers du nucléaire et les opportunités qu’offre la filière ? Ne manquez pas notre Information Collective au CNPE de Tricastin\, organisée à l’Espace EDF Odysselec ! \n📅 Quand ? Vendredi 19 décembre 2025\n📍 Où ? L’espace EDF Odysselec – CNPE Tricastin \n🕘 Horaires ? De 9h00 à 11h00\n👥 Avec qui ? Céline TERRAT LUMMA & Stéphanie MARY \n💡 Pourquoi participer ?\n✅ Découvrir les métiers du nucléaire et les compétences recherchées 🔧\n✅ Comprendre les enjeux de la sûreté\, de la sécurité et de la radioprotection 🔍\n✅ Échanger avec nos chargées de missions QSRE et poser toutes vos questions 🤝 \n🚀 Que vous soyez en reconversion\, en recherche d’emploi ou simplement curieux d’en savoir plus sur la filière\, cette rencontre est faite pour vous ! \n🎯 Inscrivez-vous dès maintenant et venez explorer les opportunités qu’offre le nucléaire ! Prenez contact avec : céline.terrat-lumma@ifare.asso.fr
URL:https://www.ifare.asso.fr/event/cnpe-tricastin-information-collective-19-decembre-2025/
LOCATION:E.D.F. – CNPE de Tricastin\, France
CATEGORIES:CNPE - TRICASTIN,Information collective
END:VEVENT
END:VCALENDAR